BEGIN:VCALENDAR
VERSION:2.0
PRODID:icalendar-ruby
CALSCALE:GREGORIAN
METHOD:PUBLISH
BEGIN:VEVENT
DTSTAMP:20260421T221054Z
UID:19-762105@lifechurchsk.com
DTSTART:20261025T170000Z
DTEND:20261025T180000Z
CLASS:PUBLIC
CREATED:20260421T134025
DESCRIPTION:
LAST-MODIFIED:20260421T134025
LOCATION:
SUMMARY:Life Church - Sunday Worship
URL;VALUE=URI:https://www.lifechurchsk.com/events/life-church-sunday-worshi
 p/2026-10-25
ATTACH;FILENAME=There%E2%80%99s-Life-Here%21%21%21.png;FMTTYPE=image/png:ht
 tps://dq5pwpg1q8ru0.cloudfront.net/2024/03/17/04/17/14/dcbb86f2-4a83-428c-
 8fb7-43f0c503d839/There%25E2%2580%2599s-Life-Here%2521%2521%2521.png
END:VEVENT
END:VCALENDAR
